BEGIN:VCALENDAR
VERSION:2.0
PRODID:-//Florian Horsefood - ECPv6.15.20//NONSGML v1.0//EN
CALSCALE:GREGORIAN
METHOD:PUBLISH
X-WR-CALNAME:Florian Horsefood
X-ORIGINAL-URL:https://florianhorsefood.nl/de/
X-WR-CALDESC:Veranstaltungen für Florian Horsefood
REFRESH-INTERVAL;VALUE=DURATION:PT1H
X-Robots-Tag:noindex
X-PUBLISHED-TTL:PT1H
BEGIN:VTIMEZONE
TZID:Europe/Amsterdam
BEGIN:DAYLIGHT
TZOFFSETFROM:+0100
TZOFFSETTO:+0200
TZNAME:CEST
DTSTART:20250330T010000
END:DAYLIGHT
BEGIN:STANDARD
TZOFFSETFROM:+0200
TZOFFSETTO:+0100
TZNAME:CET
DTSTART:20251026T010000
END:STANDARD
BEGIN:DAYLIGHT
TZOFFSETFROM:+0100
TZOFFSETTO:+0200
TZNAME:CEST
DTSTART:20260329T010000
END:DAYLIGHT
BEGIN:STANDARD
TZOFFSETFROM:+0200
TZOFFSETTO:+0100
TZNAME:CET
DTSTART:20261025T010000
END:STANDARD
BEGIN:DAYLIGHT
TZOFFSETFROM:+0100
TZOFFSETTO:+0200
TZNAME:CEST
DTSTART:20270328T010000
END:DAYLIGHT
BEGIN:STANDARD
TZOFFSETFROM:+0200
TZOFFSETTO:+0100
TZNAME:CET
DTSTART:20271031T010000
END:STANDARD
END:VTIMEZONE
BEGIN:VEVENT
DTSTART;TZID=Europe/Amsterdam:20260312T190000
DTEND;TZID=Europe/Amsterdam:20260312T213000
DTSTAMP:20260421T145825
CREATED:20260127T093808Z
LAST-MODIFIED:20260206T080429Z
UID:10000199-1773342000-1773351000@florianhorsefood.nl
SUMMARY:Wissenscafé - Barchem - 12 März '26
DESCRIPTION:Die Wissensabende von Florian Horsefood bieten eine fesselnde und lehrreiche Erfahrung\, bei der wir Themen wie die Evolution des Pferdes\, die Anatomie des Verdauungssystems und die Essenz einer gesunden Pferdeernährung vertiefen. Erforschen Sie mit uns die faszinierende Geschichte und Physiologie dieser edlen Tiere\, während wir Ihnen praktische Erkenntnisse vermitteln\, um die Gesundheit und Vitalität Ihres Pferdes zu optimieren. Lassen Sie sich inspirieren und lernen Sie bei unseren interaktiven und informativen Wissensabenden\, wie Sie das Wohlbefinden und die Leistung Ihres Pferdes durch Ernährung verbessern können.   \n\n\n                \n                        \n                            INSCHRIJVEN VOOR EEN KENNISCAFÉ\n                            Melden Sie sich jetzt für eines der kostenlosen Kenniscafés an. \n                        \n                        LinkedInDieses Feld dient zur Validierung und sollte nicht verändert werden.Naam(erforderlich)\n                            \n                            \n                                                    \n                                                    Vorname\n                                                \n                            \n                            \n                            \n                        E-Mail-Adressen(erforderlich)\n                            \n                        Bei welchem Kenniscafé wollen Sie sich anmelden?(erforderlich)– No Results –Wählen Sie ein Kenniscafé aus
URL:https://florianhorsefood.nl/de/event/wissenscafe-brachem-5-maerz-26/
LOCATION:RSV Barchem\, Soerinkweg\, Barchem\, 7244 NA
CATEGORIES:Florian Wissenscafé
ORGANIZER;CN="Florian Pferdefutter":MAILTO:events@florianhorsefood.nl
END:VEVENT
BEGIN:VEVENT
DTSTART;TZID=Europe/Amsterdam:20260317T190000
DTEND;TZID=Europe/Amsterdam:20260317T213000
DTSTAMP:20260421T145825
CREATED:20260123T094608Z
LAST-MODIFIED:20260123T094608Z
UID:10000196-1773774000-1773783000@florianhorsefood.nl
SUMMARY:Wissenscafé - Hoogerheide- 17 März '26
DESCRIPTION:Die Wissensabende von Florian Horsefood bieten eine fesselnde und lehrreiche Erfahrung\, bei der wir Themen wie die Evolution des Pferdes\, die Anatomie des Verdauungssystems und die Essenz einer gesunden Pferdeernährung vertiefen. Erforschen Sie mit uns die faszinierende Geschichte und Physiologie dieser edlen Tiere\, während wir Ihnen praktische Erkenntnisse vermitteln\, um die Gesundheit und Vitalität Ihres Pferdes zu optimieren. Lassen Sie sich inspirieren und lernen Sie bei unseren interaktiven und informativen Wissensabenden\, wie Sie das Wohlbefinden und die Leistung Ihres Pferdes durch Ernährung verbessern können.   \n\n                \n                        \n                            INSCHRIJVEN VOOR EEN KENNISCAFÉ\n                            Melden Sie sich jetzt für eines der kostenlosen Kenniscafés an. \n                        \n                        X/TwitterDieses Feld dient zur Validierung und sollte nicht verändert werden.Naam(erforderlich)\n                            \n                            \n                                                    \n                                                    Vorname\n                                                \n                            \n                            \n                            \n                        E-Mail-Adressen(erforderlich)\n                            \n                        Bei welchem Kenniscafé wollen Sie sich anmelden?(erforderlich)– No Results –Wählen Sie ein Kenniscafé aus
URL:https://florianhorsefood.nl/de/event/wissenscafe-hoogerheide-17-maerz-26/
LOCATION:Reitsportgeschäft Le Cheval\, Wouwbaan 252\, Hoogerheide\, 4631RW
CATEGORIES:Florian Wissenscafé
ORGANIZER;CN="Florian Pferdefutter":MAILTO:events@florianhorsefood.nl
END:VEVENT
END:VCALENDAR