BEGIN:VCALENDAR
VERSION:2.0
PRODID:-//Florian Horsefood - ECPv6.15.20//NONSGML v1.0//EN
CALSCALE:GREGORIAN
METHOD:PUBLISH
X-ORIGINAL-URL:https://florianhorsefood.nl
X-WR-CALDESC:Evenementen voor Florian Horsefood
REFRESH-INTERVAL;VALUE=DURATION:PT1H
X-Robots-Tag:noindex
X-PUBLISHED-TTL:PT1H
BEGIN:VTIMEZONE
TZID:Europe/Amsterdam
BEGIN:DAYLIGHT
TZOFFSETFROM:+0100
TZOFFSETTO:+0200
TZNAME:CEST
DTSTART:20230326T010000
END:DAYLIGHT
BEGIN:STANDARD
TZOFFSETFROM:+0200
TZOFFSETTO:+0100
TZNAME:CET
DTSTART:20231029T010000
END:STANDARD
BEGIN:DAYLIGHT
TZOFFSETFROM:+0100
TZOFFSETTO:+0200
TZNAME:CEST
DTSTART:20240331T010000
END:DAYLIGHT
BEGIN:STANDARD
TZOFFSETFROM:+0200
TZOFFSETTO:+0100
TZNAME:CET
DTSTART:20241027T010000
END:STANDARD
BEGIN:DAYLIGHT
TZOFFSETFROM:+0100
TZOFFSETTO:+0200
TZNAME:CEST
DTSTART:20250330T010000
END:DAYLIGHT
BEGIN:STANDARD
TZOFFSETFROM:+0200
TZOFFSETTO:+0100
TZNAME:CET
DTSTART:20251026T010000
END:STANDARD
END:VTIMEZONE
BEGIN:VEVENT
DTSTART;VALUE=DATE:20241108
DTEND;VALUE=DATE:20241111
DTSTAMP:20260419T174839
CREATED:20241003T100927Z
LAST-MODIFIED:20241003T100927Z
UID:10000049-1731024000-1731283199@florianhorsefood.nl
SUMMARY:Tineke Bartels - Hooge Mierde
DESCRIPTION:Ontmoet ons team van Florian Horsefood op verschillende wedstrijden\, evenementen en kennisavonden voor een unieke en educatieve ervaring op het gebied van paardenwelzijn\, gezonde voeding en expertise. Of je nu een recreatieve ruiter bent of deelneemt aan de hoogste sporten\, bij Florian Horsefood delen we onze passie voor paarden met iedereen. Onze evenementen zijn bedoeld om dieper in te gaan op de evolutie van het paard\, de anatomie van het verteringsstelsel en de essentie van gezonde paardenvoeding. \nTijdens onze kennisavonden bieden we waardevolle inzichten en praktische adviezen\, waarmee je de gezondheid en prestaties van jouw paard kunt optimaliseren. Daarnaast zijn we aanwezig op diverse wedstrijden en beurzen waar je onze hoogwaardige producten kunt ontdekken en ervaren hoe wij bijdragen aan het laten floreren van jouw paard. \nKom ons ontmoeten op locatie en ontdek hoe Florian Horsefood zich inzet voor de gezondheid\, vitaliteit en het welzijn van je paard. Met persoonlijk advies\, diepgaande kennis en een breed assortiment aan voedzame en natuurlijke producten\, zorgen wij ervoor dat jouw paard het beste krijgt wat de natuur te bieden heeft. Wij kijken ernaar uit je te ontmoeten en samen te werken aan het welzijn van jouw paard!
URL:https://florianhorsefood.nl/event/tineke-bartels-hooge-mierde/
LOCATION:Academy Bartels\, Koestraat 9-11\, Hooge Mierde\, 5095 BD\, Netherlands
CATEGORIES:Events en wedstrijden
ORGANIZER;CN="Florian Horsefood":MAILTO:events@florianhorsefood.nl
END:VEVENT
END:VCALENDAR